BEGIN:VCALENDAR
VERSION:2.0
PRODID:-//TYPO3/NONSGML Calendarize//EN


BEGIN:VEVENT
UID:calendarize-celojosas-fotoizstade-22x22-ar-temu-skiro-atklasana
DTSTAMP:20241126T175622Z

DTSTART:20241205T160000Z
DTEND:20241205T180000Z
    
SUMMARY:Ceļojošās fotoizstādes "22x22" ar tēmu “Šķiro” atklāšana
DESCRIPTION:Informācija: https://www.naba.lv/par/naba-zinas/zina/t/100675/
X-ALT-DESC;FMTTYPE=text/html:<p>Informācija: <a href="https://www.naba.lv/par/naba-zinas/zina/t/100675/">https://www.naba.lv/par/naba-zinas/zina/t/100675/</a></p>
LOCATION:
END:VEVENT

END:VCALENDAR