BEGIN:VCALENDAR
VERSION:2.0
PRODID:-//TYPO3/NONSGML Calendarize//EN


BEGIN:VEVENT
UID:calendarize-eksperimentals-makslas-maratons-naba-raida-xxii
DTSTAMP:20241126T175449Z

DTSTART:20241201T100000Z
DTEND:20241201T200000Z
    
SUMMARY:Eksperimentāls mākslas maratons NABA RAIDA XXIII
DESCRIPTION:Informācija: https://www.facebook.com/events/edit/1482902639065027
X-ALT-DESC;FMTTYPE=text/html:<p>Informācija: <a href="https://www.facebook.com/events/edit/1482902639065027">https://www.facebook.com/events/edit/1482902639065027</a></p>
LOCATION:
END:VEVENT

END:VCALENDAR