BEGIN:VCALENDAR
VERSION:2.0
PRODID:-//TYPO3/NONSGML Calendarize//EN


BEGIN:VEVENT
UID:calendarize-radio-naba-22gadadienas-koncertnotikums-2-naba-plates-dj-krankenwagen-un-effekts
DTSTAMP:20241126T175300Z

DTSTART:20241130T170000Z
DTEND:20241130T215900Z
    
SUMMARY:Radio NABA 22.gadadienas koncertnotikums "2 NABA plates - DJ Krankenwagen un EFFEKTS"
DESCRIPTION:Biļetes: https://www.facebook.com/events/860293049214492/
X-ALT-DESC;FMTTYPE=text/html:<p>Biļetes: <a href="https://www.facebook.com/events/860293049214492/">https://www.facebook.com/events/860293049214492/</a></p>
LOCATION:
END:VEVENT

END:VCALENDAR