BEGIN:VCALENDAR
VERSION:2.0
PRODID:-//TYPO3/NONSGML Calendarize//EN


BEGIN:VEVENT
UID:calendarize-radio-naba-23-gadu-jubileja
DTSTAMP:20251029T140845Z

DTSTART:20251201T060000Z
DTEND:20251201T215900Z
    
SUMMARY:Radio NABA 23 gadu jubileja
DESCRIPTION:
X-ALT-DESC;FMTTYPE=text/html:
LOCATION:
END:VEVENT

END:VCALENDAR