BEGIN:VCALENDAR
VERSION:2.0
PRODID:-//TYPO3/NONSGML Calendarize//EN


BEGIN:VEVENT
UID:calendarize-videography-space-textures-xvii
DTSTAMP:20240830T141144Z

DTSTART:20240907T170000Z
DTEND:20240907T220000Z
    
SUMMARY:Videogrāfija: Space Textures XVIII
DESCRIPTION:Videogrāfija: Space Textures XVIII
X-ALT-DESC;FMTTYPE=text/html:<p><a href="https://www.facebook.com/events/1200141918070143/" target="_blank">Videogrāfija: Space Textures XVIII</a></p>
LOCATION:
END:VEVENT

END:VCALENDAR