BEGIN:VCALENDAR
VERSION:2.0
PRODID:-//TYPO3/NONSGML Calendarize//EN


BEGIN:VEVENT
UID:calendarize-radio-naba-top-100-1
DTSTAMP:20251223T175320Z

DTSTART:20251230T073000Z
DTEND:20251230T163000Z
    
SUMMARY:Radio NABA top 100
DESCRIPTION:Informācija
X-ALT-DESC;FMTTYPE=text/html:<p><a href="https://www.naba.lv/topi/top-100/top-100/" target="_blank">Informācija</a></p>
LOCATION:
END:VEVENT

END:VCALENDAR